BEGIN:VCALENDAR
VERSION:2.0
PRODID:-//SLS Sydney Branch - ECPv4.6.9//NONSGML v1.0//EN
CALSCALE:GREGORIAN
METHOD:PUBLISH
X-WR-CALNAME:SLS Sydney Branch
X-ORIGINAL-URL:http://surflifesavingsydney.com.au
X-WR-CALDESC:Events for SLS Sydney Branch
BEGIN:VEVENT
DTSTART;TZID=UTC+10:20180130T181500
DTEND;TZID=UTC+10:20180130T213000
DTSTAMP:20180225T144628
CREATED:20171115T045458Z
LAST-MODIFIED:20171115T045458Z
UID:14370-1517336100-1517347800@surflifesavingsydney.com.au
SUMMARY:Interviews Junior Lifesaver of Year 17-18 Finalists
DESCRIPTION:at Branch office Little Bay  from 6.15 pm \n
URL:http://surflifesavingsydney.com.au/event/interviews-junior-lifesaver-of-year-17-18-finalists/
CATEGORIES:Member Services Calendar,Nippers Calendars,SLSS Full Calendar of Events
END:VEVENT
BEGIN:VEVENT
DTSTART;TZID=UTC+10:20180131T190000
DTEND;TZID=UTC+10:20180131T210000
DTSTAMP:20180225T144628
CREATED:20170731T045340Z
LAST-MODIFIED:20170731T045340Z
UID:13254-1517425200-1517432400@surflifesavingsydney.com.au
SUMMARY:JDC Meeting
DESCRIPTION:at Branch Office 7pm \n
URL:http://surflifesavingsydney.com.au/event/jdc-meeting-4/
CATEGORIES:Junior Development Committee Meetings,Nippers Calendars,SLSS Full Calendar of Events
END:VEVENT
BEGIN:VEVENT
DTSTART;TZID=UTC+10:20180202T080000
DTEND;TZID=UTC+10:20180204T170000
DTSTAMP:20180225T144628
CREATED:20170713T011242Z
LAST-MODIFIED:20170713T011242Z
UID:13144-1517558400-1517763600@surflifesavingsydney.com.au
SUMMARY:Summer of Surf
DESCRIPTION:
URL:http://surflifesavingsydney.com.au/event/summer-of-surf-9/
CATEGORIES:Carnivals & Surf Sports Calendar,SLSS Full Calendar of Events
END:VEVENT
BEGIN:VEVENT
DTSTART;TZID=UTC+10:20180203T070000
DTEND;TZID=UTC+10:20180203T170000
DTSTAMP:20180225T144628
CREATED:20170713T044439Z
LAST-MODIFIED:20180109T021529Z
UID:13156-1517641200-1517677200@surflifesavingsydney.com.au
SUMMARY:Coogee Carnival 2018
DESCRIPTION:Coogee Carnival Flyer 2018 \nProgram still to come \n
URL:http://surflifesavingsydney.com.au/event/coogee-carnival-3/
CATEGORIES:Carnivals,Carnivals & Surf Sports Calendar,SLSS Full Calendar of Events
END:VEVENT
BEGIN:VEVENT
DTSTART;TZID=UTC+10:20180203T080000
DTEND;TZID=UTC+10:20180203T170000
DTSTAMP:20180225T144628
CREATED:20170912T002913Z
LAST-MODIFIED:20170912T002913Z
UID:13666-1517644800-1517677200@surflifesavingsydney.com.au
SUMMARY:Branch Masters Championships 2018
DESCRIPTION:held at the Coogee Carnival \n
URL:http://surflifesavingsydney.com.au/event/branch-masters-championships-2018/
CATEGORIES:Carnivals,Carnivals & Surf Sports Calendar,SLSS Full Calendar of Events
END:VEVENT
BEGIN:VEVENT
DTSTART;TZID=UTC+10:20180203T080000
DTEND;TZID=UTC+10:20180203T170000
DTSTAMP:20180225T144628
CREATED:20170912T003008Z
LAST-MODIFIED:20170912T003008Z
UID:13668-1517644800-1517677200@surflifesavingsydney.com.au
SUMMARY:Branch Lifesaving Championships 2018
DESCRIPTION:held at the Coogee Carnival \n
URL:http://surflifesavingsydney.com.au/event/branch-lifesaving-championships-2018/
CATEGORIES:Carnivals,Carnivals & Surf Sports Calendar,Lifesaving & Education Calendar,Lifesaving & Education Calendar,Member Services Calendar,SLSS Full Calendar of Events
END:VEVENT
BEGIN:VEVENT
DTSTART;TZID=UTC+10:20180203T080000
DTEND;TZID=UTC+10:20180203T170000
DTSTAMP:20180225T144628
CREATED:20171001T054842Z
LAST-MODIFIED:20171001T054842Z
UID:13947-1517644800-1517677200@surflifesavingsydney.com.au
SUMMARY:Bate Bay SRC/BM Assessment
DESCRIPTION:SRC / BM  Part A  & B at Wanda\nContact : Area Education Coordinator Stephen Urquhart \n
URL:http://surflifesavingsydney.com.au/event/bate-bay-srcbm-assessment-5/
CATEGORIES:Lifesaving & Education Calendar,Lifesaving & Education Calendar,SLSS Full Calendar of Events,SRC/BM Assessments,SRC/BM Assessments
END:VEVENT
BEGIN:VEVENT
DTSTART;TZID=UTC+10:20180203T080000
DTEND;TZID=UTC+10:20180203T170000
DTSTAMP:20180225T144628
CREATED:20171127T005001Z
LAST-MODIFIED:20171127T005001Z
UID:14418-1517644800-1517677200@surflifesavingsydney.com.au
SUMMARY:RNP IRB Training and Assessment weekend
DESCRIPTION:3rd & 4th February at Burning Palms for the 3 RNP clubs. \n
URL:http://surflifesavingsydney.com.au/event/rnp-irb-training-and-assessment-weekend/
CATEGORIES:IRB/ART/Spinal/ORB/RWC/Gold Assessments,IRB/ART/Spinal/ORB/RWC/Gold Assessments,Lifesaving & Education Calendar,Lifesaving & Education Calendar,SLSS Full Calendar of Events
END:VEVENT
BEGIN:VEVENT
DTSTART;TZID=UTC+10:20180203T080000
DTEND;TZID=UTC+10:20180203T170000
DTSTAMP:20180225T144628
CREATED:20171220T042405Z
LAST-MODIFIED:20171220T042405Z
UID:14585-1517644800-1517677200@surflifesavingsydney.com.au
SUMMARY:Lifesaving Championships @ Coogee 2018
DESCRIPTION:Circular 20 – SLSS Branch Lifesaving Event Championships 2018 – Date & Events \n
URL:http://surflifesavingsydney.com.au/event/lifesaving-championships-coogee-2018/
CATEGORIES:Carnivals & Surf Sports Calendar,Lifesaving & Education Calendar,Lifesaving & Education Calendar,Member Services Calendar,Nippers Calendars,SLSS Full Calendar of Events,Support Operations Calendars
END:VEVENT
BEGIN:VEVENT
DTSTART;TZID=UTC+10:20180204T080000
DTEND;TZID=UTC+10:20180204T170000
DTSTAMP:20180225T144628
CREATED:20171127T005109Z
LAST-MODIFIED:20171127T005150Z
UID:14420-1517731200-1517763600@surflifesavingsydney.com.au
SUMMARY:RNP  IRB Training and Assessment Weekend
DESCRIPTION:3rd & 4th February at Burning Palms for the 3 RNP clubs. \n
URL:http://surflifesavingsydney.com.au/event/rnp-irb-training-and-assessment-weekend-2/
CATEGORIES:IRB/ART/Spinal/ORB/RWC/Gold Assessments,IRB/ART/Spinal/ORB/RWC/Gold Assessments,Lifesaving & Education Calendar,Lifesaving & Education Calendar,SLSS Full Calendar of Events
END:VEVENT
BEGIN:VEVENT
DTSTART;TZID=UTC:20180206T193000
DTEND;TZID=UTC:20180206T210000
DTSTAMP:20180225T144628
CREATED:20170717T223202Z
LAST-MODIFIED:20170717T223250Z
UID:13172-1517945400-1517950800@surflifesavingsydney.com.au
SUMMARY:Branch Council Meeting
DESCRIPTION:6th February  2018  7.30 pm Branch Office \n
URL:http://surflifesavingsydney.com.au/event/branch-council-meeting-18/
CATEGORIES:SLSS Full Calendar of Events
END:VEVENT
BEGIN:VEVENT
DTSTART;TZID=UTC+10:20180208T190000
DTEND;TZID=UTC+10:20180208T203000
DTSTAMP:20180225T144628
CREATED:20170608T014819Z
LAST-MODIFIED:20170608T014819Z
UID:12942-1518116400-1518121800@surflifesavingsydney.com.au
SUMMARY:Surf Sports Committee
DESCRIPTION:
URL:http://surflifesavingsydney.com.au/event/surf-sports-committee-6/
CATEGORIES:Surf Sports Committee Meetings
END:VEVENT
BEGIN:VEVENT
DTSTART;TZID=UTC+10:20180210T080000
DTEND;TZID=UTC+10:20180210T170000
DTSTAMP:20180225T144628
CREATED:20170713T012208Z
LAST-MODIFIED:20170912T004256Z
UID:13151-1518249600-1518282000@surflifesavingsydney.com.au
SUMMARY:Branch Open Championships 2018
DESCRIPTION:Venue – Maroubra  \n
URL:http://surflifesavingsydney.com.au/event/branch-championships-age-board-riding/
CATEGORIES:Carnivals,Carnivals & Surf Sports Calendar,Nippers Calendars,SLSS Full Calendar of Events
END:VEVENT
BEGIN:VEVENT
DTSTART;TZID=UTC+10:20180211T080000
DTEND;TZID=UTC+10:20180211T170000
DTSTAMP:20180225T144628
CREATED:20170713T044303Z
LAST-MODIFIED:20170912T004202Z
UID:13153-1518336000-1518368400@surflifesavingsydney.com.au
SUMMARY:Branch Age Championships 2018
DESCRIPTION:
URL:http://surflifesavingsydney.com.au/event/branch-age-champs-open-boardriding/
CATEGORIES:Carnivals,Carnivals & Surf Sports Calendar,Nippers Calendars,SLSS Full Calendar of Events
END:VEVENT
BEGIN:VEVENT
DTSTART;TZID=UTC+10:20180213T190000
DTEND;TZID=UTC+10:20180213T210000
DTSTAMP:20180225T144628
CREATED:20170531T000014Z
LAST-MODIFIED:20170531T000014Z
UID:12892-1518548400-1518555600@surflifesavingsydney.com.au
SUMMARY:LSEC Meeting
DESCRIPTION:Branch Lifesaving & Education Committee Meeting 7.00 pm Branch Office \n
URL:http://surflifesavingsydney.com.au/event/lsec-meeting-19/
CATEGORIES:Lifesaving & Education Calendar,Lifesaving & Education Calendar,Lifesaving and Education Committee Meetings,Lifesaving and Education Committee Meetings,SLSS Full Calendar of Events
END:VEVENT
BEGIN:VEVENT
DTSTART;TZID=UTC+10:20180216T080000
DTEND;TZID=UTC+10:20180218T170000
DTSTAMP:20180225T144628
CREATED:20171204T235501Z
LAST-MODIFIED:20171204T235521Z
UID:14455-1518768000-1518973200@surflifesavingsydney.com.au
SUMMARY:SLSS 18-25yr Development Camp
DESCRIPTION:More information to be distrubuted to Clubs before Christmas \n
URL:http://surflifesavingsydney.com.au/event/slss-18-25yr-development-camp/
CATEGORIES:Lifesaving & Education Calendar,Lifesaving & Education Calendar,Member Services Calendar,SLSS Full Calendar of Events
END:VEVENT
BEGIN:VEVENT
DTSTART;TZID=UTC+10:20180216T080000
DTEND;TZID=UTC+10:20180218T170000
DTSTAMP:20180225T144628
CREATED:20180104T235616Z
LAST-MODIFIED:20180104T235616Z
UID:14625-1518768000-1518973200@surflifesavingsydney.com.au
SUMMARY:18-25 Enrichment Program
DESCRIPTION:Applications close 12/1/18\nDetails in Circular 21 – 17-18 SLSS 18-25 Enrichment Program 2018 \n
URL:http://surflifesavingsydney.com.au/event/18-25-enrichment-program-2/
CATEGORIES:Member Services Calendar,SLSS Full Calendar of Events
END:VEVENT
BEGIN:VEVENT
DTSTART;TZID=UTC+10:20180217T080000
DTEND;TZID=UTC+10:20180217T170000
DTSTAMP:20180225T144628
CREATED:20171001T055018Z
LAST-MODIFIED:20171001T055018Z
UID:13949-1518854400-1518886800@surflifesavingsydney.com.au
SUMMARY:Bate Bay SRC/BM Assessment
DESCRIPTION:SRC / BM Part A  & B at Cronulla\nContact : Area Education Coordinator Stephen Urquhart \n
URL:http://surflifesavingsydney.com.au/event/bate-bay-srcbm-assessment-6/
CATEGORIES:Lifesaving & Education Calendar,Lifesaving & Education Calendar,SLSS Full Calendar of Events,SRC/BM Assessments,SRC/BM Assessments
END:VEVENT
BEGIN:VEVENT
DTSTART;TZID=UTC+10:20180217T080000
DTEND;TZID=UTC+10:20180217T120000
DTSTAMP:20180225T144628
CREATED:20180212T235308Z
LAST-MODIFIED:20180212T235308Z
UID:14750-1518854400-1518868800@surflifesavingsydney.com.au
SUMMARY:ORBCrew Assessment SR 30
DESCRIPTION:Assessor – Karl Solomonson   \n
URL:http://surflifesavingsydney.com.au/event/orbcrew-assessment-sr-30/
CATEGORIES:IRB/ART/Spinal/ORB/RWC/Gold Assessments,IRB/ART/Spinal/ORB/RWC/Gold Assessments,Lifesaving & Education Calendar,Lifesaving & Education Calendar,Support Operations Calendars
END:VEVENT
BEGIN:VEVENT
DTSTART;TZID=UTC+10:20180220T183000
DTEND;TZID=UTC+10:20180220T210000
DTSTAMP:20180225T144628
CREATED:20171003T022606Z
LAST-MODIFIED:20171003T022606Z
UID:14003-1519151400-1519160400@surflifesavingsydney.com.au
SUMMARY:Randwick ARTC Assessment
DESCRIPTION:ARTC Assessment @  Maroubra SLSC \n
URL:http://surflifesavingsydney.com.au/event/randwick-artc-assessment/
CATEGORIES:IRB/ART/Spinal/ORB/RWC/Gold Assessments,IRB/ART/Spinal/ORB/RWC/Gold Assessments,Lifesaving & Education Calendar,Lifesaving & Education Calendar,SLSS Full Calendar of Events
END:VEVENT
BEGIN:VEVENT
DTSTART;TZID=UTC+10:20180224T080000
DTEND;TZID=UTC+10:20180225T170000
DTSTAMP:20180225T144628
CREATED:20170317T042551Z
LAST-MODIFIED:20170317T042551Z
UID:10838-1519459200-1519578000@surflifesavingsydney.com.au
SUMMARY:2018 NSW Lifesaving Championships
DESCRIPTION:memo–2018-nsw-championships-dates \n
URL:http://surflifesavingsydney.com.au/event/2018-nsw-lifesaving-championships/
CATEGORIES:Carnivals,Carnivals & Surf Sports Calendar,Nippers Calendars,SLSS Full Calendar of Events
END:VEVENT
BEGIN:VEVENT
DTSTART;TZID=UTC+10:20180224T090000
DTEND;TZID=UTC+10:20180224T120000
DTSTAMP:20180225T144628
CREATED:20180213T232255Z
LAST-MODIFIED:20180213T232255Z
UID:14776-1519462800-1519473600@surflifesavingsydney.com.au
SUMMARY:SRC/BM Assessments Bate Bay
DESCRIPTION:Saturday 24th  9am  Part A & B At Wanda SLSC\nContact :  Area Education Coordinator Stephen Urquhart \n
URL:http://surflifesavingsydney.com.au/event/srcbm-assessments-bate-bay-11/
CATEGORIES:Lifesaving & Education Calendar,Lifesaving & Education Calendar,SLSS Full Calendar of Events,SRC/BM Assessments,SRC/BM Assessments
END:VEVENT
BEGIN:VEVENT
DTSTART;TZID=UTC+10:20180301T160000
DTEND;TZID=UTC+10:20180301T160000
DTSTAMP:20180225T144629
CREATED:20180223T051129Z
LAST-MODIFIED:20180223T051129Z
UID:14818-1519920000-1519920000@surflifesavingsydney.com.au
SUMMARY:Closing date for Clubs to advise Branch Office of Club Presentation & AGMs
DESCRIPTION:Circular 24 – 2018 Club Presentation & AGM Dates \n
URL:http://surflifesavingsydney.com.au/event/closing-date-for-clubs-to-advise-branch-office-of-club-presentation-agms/
CATEGORIES:SLSS Full Calendar of Events
END:VEVENT
BEGIN:VEVENT
DTSTART;TZID=UTC+10:20180301T183000
DTEND;TZID=UTC+10:20180301T210000
DTSTAMP:20180225T144629
CREATED:20171003T022902Z
LAST-MODIFIED:20171003T022902Z
UID:14006-1519929000-1519938000@surflifesavingsydney.com.au
SUMMARY:Randwick BM Assessment
DESCRIPTION:BM Part A  @  Coogee SLSC\nContact : Area Education Coordinator Beck Mister \n
URL:http://surflifesavingsydney.com.au/event/randwick-bm-assessment-10/
CATEGORIES:Lifesaving & Education Calendar,Lifesaving & Education Calendar,SLSS Full Calendar of Events,SRC/BM Assessments,SRC/BM Assessments
END:VEVENT
BEGIN:VEVENT
DTSTART;TZID=UTC+10:20180302T080000
DTEND;TZID=UTC+10:20180304T170000
DTSTAMP:20180225T144629
CREATED:20170317T042927Z
LAST-MODIFIED:20170317T042927Z
UID:10841-1519977600-1520182800@surflifesavingsydney.com.au
SUMMARY:2018 NSW Age Championships
DESCRIPTION:memo–2018-nsw-championships-dates \n
URL:http://surflifesavingsydney.com.au/event/2018-nsw-age-championships/
CATEGORIES:Carnivals,Carnivals & Surf Sports Calendar,Nippers Calendars,SLSS Full Calendar of Events
END:VEVENT
BEGIN:VEVENT
DTSTART;TZID=UTC+10:20180303T080000
DTEND;TZID=UTC+10:20180303T170000
DTSTAMP:20180225T144629
CREATED:20171001T055135Z
LAST-MODIFIED:20171001T055135Z
UID:13951-1520064000-1520096400@surflifesavingsydney.com.au
SUMMARY:Bate Bay SRC/BM Assessment
DESCRIPTION:SRC  /  BM   Part A  & B at Cronulla\nContact : Area Education Coordinator Stephen Urquhart \n
URL:http://surflifesavingsydney.com.au/event/bate-bay-srcbm-assessment-7/
CATEGORIES:Lifesaving & Education Calendar,Lifesaving & Education Calendar,SLSS Full Calendar of Events,SRC/BM Assessments,SRC/BM Assessments
END:VEVENT
BEGIN:VEVENT
DTSTART;TZID=UTC+10:20180303T080000
DTEND;TZID=UTC+10:20180303T170000
DTSTAMP:20180225T144629
CREATED:20171003T022958Z
LAST-MODIFIED:20171003T022958Z
UID:14008-1520064000-1520096400@surflifesavingsydney.com.au
SUMMARY:Randwick BM Assessment
DESCRIPTION:Part B @ Coogee beach \nContact : Area Education Coordinator Beck Mister \n
URL:http://surflifesavingsydney.com.au/event/randwick-bm-assessment-11/
CATEGORIES:Lifesaving & Education Calendar,Lifesaving & Education Calendar,SLSS Full Calendar of Events,SRC/BM Assessments,SRC/BM Assessments
END:VEVENT
END:VCALENDAR